BEGIN:VCALENDAR
VERSION:2.0
PRODID:-//The Station of the Cross - ECPv6.15.20//NONSGML v1.0//EN
CALSCALE:GREGORIAN
METHOD:PUBLISH
X-WR-CALNAME:The Station of the Cross
X-ORIGINAL-URL:https://thestationofthecross.com
X-WR-CALDESC:Events for The Station of the Cross
REFRESH-INTERVAL;VALUE=DURATION:PT1H
X-Robots-Tag:noindex
X-PUBLISHED-TTL:PT1H
BEGIN:VTIMEZONE
TZID:America/New_York
BEGIN:DAYLIGHT
TZOFFSETFROM:-0500
TZOFFSETTO:-0400
TZNAME:EDT
DTSTART:20250309T070000
END:DAYLIGHT
BEGIN:STANDARD
TZOFFSETFROM:-0400
TZOFFSETTO:-0500
TZNAME:EST
DTSTART:20251102T060000
END:STANDARD
BEGIN:DAYLIGHT
TZOFFSETFROM:-0500
TZOFFSETTO:-0400
TZNAME:EDT
DTSTART:20260308T070000
END:DAYLIGHT
BEGIN:STANDARD
TZOFFSETFROM:-0400
TZOFFSETTO:-0500
TZNAME:EST
DTSTART:20261101T060000
END:STANDARD
BEGIN:DAYLIGHT
TZOFFSETFROM:-0500
TZOFFSETTO:-0400
TZNAME:EDT
DTSTART:20270314T070000
END:DAYLIGHT
BEGIN:STANDARD
TZOFFSETFROM:-0400
TZOFFSETTO:-0500
TZNAME:EST
DTSTART:20271107T060000
END:STANDARD
END:VTIMEZONE
BEGIN:VEVENT
DTSTART;VALUE=DATE:20260421
DTEND;VALUE=DATE:20260422
DTSTAMP:20260421T142754
CREATED:20260409T190802Z
LAST-MODIFIED:20260409T192625Z
UID:10058109-1776729600-1776815999@thestationofthecross.com
SUMMARY:Mass for the Unborn Child (Dedham)
DESCRIPTION:St. Mary of the Assumption Church in Dedham will celebrate Holy Mass for the Unborn Child\, starting at 12:10 p.m.\, Tuesday\, April 21. A Rosary for Life will follow the Mass.
URL:https://thestationofthecross.com/event/mass-for-the-unborn-child-dedham/
LOCATION:St. Mary of the Assumption Catholic Church – Dedham\, MA\, 420 High Street\, Dedham\, MA\, 02026\, United States
CATEGORIES:Boston
GEO:42.2476059;-71.1661933
X-APPLE-STRUCTURED-LOCATION;VALUE=URI;X-ADDRESS=St. Mary of the Assumption Catholic Church – Dedham MA 420 High Street Dedham MA 02026 United States;X-APPLE-RADIUS=500;X-TITLE=420 High Street:geo:-71.1661933,42.2476059
END:VEVENT
BEGIN:VEVENT
DTSTART;VALUE=DATE:20260422
DTEND;VALUE=DATE:20260423
DTSTAMP:20260421T142754
CREATED:20260306T154459Z
LAST-MODIFIED:20260306T154459Z
UID:10058078-1776816000-1776902399@thestationofthecross.com
SUMMARY:Catholics Returning Home (Meadville)
DESCRIPTION:The Epiphany of the Lord Parish in Meadville will hold a free series of informal listening sessions\, titled “Catholics Returning Home\,” from 6:30 to 8 p.m. Wednesdays\, April 8 to May 13\, at St. Agatha Church office\, 353 Pine St.\, Meadville\, Pennsylvania.\nThe series is an invitation to Catholics who have been away to renew their relationship with the Catholic Church. These listening sessions will be conducted in a support-group format\, with updates on the Catholic faith. Former returned Catholics or converts will facilitate the evenings. Everyone is welcome. For more details\, call 814-336-1112.
URL:https://thestationofthecross.com/event/catholics-returning-home-meadville-2/2026-04-22/
LOCATION:St. Agatha Catholic Church\, 353 Pine St.\, Meadville\, PA\, 16335
CATEGORIES:Erie, NE Ohio, Oil City
END:VEVENT
BEGIN:VEVENT
DTSTART;VALUE=DATE:20260422
DTEND;VALUE=DATE:20260423
DTSTAMP:20260421T142754
CREATED:20260417T124459Z
LAST-MODIFIED:20260417T124459Z
UID:10058113-1776816000-1776902399@thestationofthecross.com
SUMMARY:Catholic Singles Social: Bingo (Orchard Park)
DESCRIPTION:Catholic single adults in their 20s\, 30s\, and 40s are invited to a fun night of bingo\, pizza\, and connection from 6 to 9 p.m. Wednesday\, April 22\, at St. John Vianney Parish’s school gymnasium\, 2950 Southwestern Blvd.\, Orchard Park. This will be the 20th Catholic Singles Social. Reserve a ticket online at www.tinyurl.com/BINGO-20/.
URL:https://thestationofthecross.com/event/catholic-singles-social-bingo-orchard-park/
LOCATION:St. John Vianney Church – Orchard Park\, NY\, 2950 Southwestern Blvd.\, Orchard Park\, NY\, 14127\, United States
CATEGORIES:Buffalo
GEO:42.8071851;-78.7358428
X-APPLE-STRUCTURED-LOCATION;VALUE=URI;X-ADDRESS=St. John Vianney Church – Orchard Park NY 2950 Southwestern Blvd. Orchard Park NY 14127 United States;X-APPLE-RADIUS=500;X-TITLE=2950 Southwestern Blvd.:geo:-78.7358428,42.8071851
END:VEVENT
BEGIN:VEVENT
DTSTART;VALUE=DATE:20260423
DTEND;VALUE=DATE:20260424
DTSTAMP:20260421T142754
CREATED:20260417T123815Z
LAST-MODIFIED:20260417T123815Z
UID:10058112-1776902400-1776988799@thestationofthecross.com
SUMMARY:Healing Mass (Erie)
DESCRIPTION:Dry Bones Ministry has scheduled a healing Mass from 5:30 to 8:30 p.m. Thursday\, April 23\, at St. George Church\, 5145 Peach St.\, Erie. There will be Eucharistic Adoration and confession at 5:30 p.m.\, a talk on spiritual warfare at 6:15 p.m.\, and Mass at 7 p.m.\, followed by a healing and deliverance prayer and a blessing with first-class relics.
URL:https://thestationofthecross.com/event/healing-mass-erie/
LOCATION:St. George Church – Erie\, PA\, 5145 Peach Street\, Erie\, PA\, 16509\, United States
CATEGORIES:Erie, NE Ohio, Oil City
GEO:42.0782931;-80.0910263
X-APPLE-STRUCTURED-LOCATION;VALUE=URI;X-ADDRESS=St. George Church – Erie PA 5145 Peach Street Erie PA 16509 United States;X-APPLE-RADIUS=500;X-TITLE=5145 Peach Street:geo:-80.0910263,42.0782931
END:VEVENT
BEGIN:VEVENT
DTSTART;VALUE=DATE:20260424
DTEND;VALUE=DATE:20260425
DTSTAMP:20260421T142754
CREATED:20260327T203849Z
LAST-MODIFIED:20260327T203916Z
UID:10058107-1776988800-1777075199@thestationofthecross.com
SUMMARY:“Love the Lasts” (Rochester)
DESCRIPTION:Restored Ministries founder Joey Pontarelli will give a talk titled “Love the Lasts” from 7 to 9 p.m. Friday\, April 24\, at Parish of the Holy Family\, 4100 Lyell Road\, Rochester\, presented by St. Michael’s Family Protection Institute and Converge Young Adult Ministry. In this practical talk for singles and couples\, Pontarelli offers a roadmap for love that goes beyond a chastity talk. Based on the Church’s wisdom\, marriage research\, and time-tested couples\, he shares seven tips on how to build healthy relationships and avoid divorce.
URL:https://thestationofthecross.com/event/love-the-lasts-rochester/
LOCATION:Parish of the Holy Family – Rochester\, 4100 Lyell Road\, Rochester\, NY\, 14624\, United States
CATEGORIES:Rochester
END:VEVENT
BEGIN:VEVENT
DTSTART;VALUE=DATE:20260425
DTEND;VALUE=DATE:20260426
DTSTAMP:20260421T142754
CREATED:20260320T163124Z
LAST-MODIFIED:20260320T163124Z
UID:10058095-1777075200-1777161599@thestationofthecross.com
SUMMARY:Catholic Women of Buffalo Conference (Amherst)
DESCRIPTION:The Annual Catholic Women of Buffalo Conference will be from 9 a.m. to 3 p.m. Saturday\, April 25\, at St. Gregory the Great Campus\, 200 St. Gregory Court\, Amherst. Speakers include author Lisa Cotter and Fr. Paul Cygan presenting on the theme “Counting it all Joy.” The day features a light breakfast\, confession\, Adoration with the rosary\, Catholic vendors\, time for fellowship\, and lunch. Tickets cost $35 plus fees. Visit CatholicWomenOfBuffalo.org to register\, or learn more on Facebook and Instagram.
URL:https://thestationofthecross.com/event/catholic-women-of-buffalo-conference-amherst/
LOCATION:St. Gregory the Great Church – Williamsville\, NY\, 200 St. Gregory the Great Court\, Williamsville\, NY\, 14221\, United States
CATEGORIES:Buffalo
GEO:42.9932005;-78.7282242
X-APPLE-STRUCTURED-LOCATION;VALUE=URI;X-ADDRESS=St. Gregory the Great Church – Williamsville NY 200 St. Gregory the Great Court Williamsville NY 14221 United States;X-APPLE-RADIUS=500;X-TITLE=200 St. Gregory the Great Court:geo:-78.7282242,42.9932005
END:VEVENT
BEGIN:VEVENT
DTSTART;VALUE=DATE:20260425
DTEND;VALUE=DATE:20260426
DTSTAMP:20260421T142754
CREATED:20260325T134746Z
LAST-MODIFIED:20260325T134746Z
UID:10058096-1777075200-1777161599@thestationofthecross.com
SUMMARY:The Story of a Near-Death Experience (Buffalo)
DESCRIPTION:Paul Zucarelli\, Catholic speaker and author\, had nine cardiac arrests and was dead for two hours. Through intercessory prayer of many\, including Bishop Olmsted\, Paul survived with no brain damage and now lives to testify his witness about Heaven and Christ’s deep love for us. Bring your family and friends to hear Paul’s testimony from 1 to 2:30 p.m. Saturday\, April 25\, at St. Margaret’s Church\, 1395 Hertel Ave.\, Buffalo. This is a free event.
URL:https://thestationofthecross.com/event/the-story-of-a-near-death-experience-buffalo/
LOCATION:St. Margaret Church – Buffalo\, NY\, 1395 Hertel Ave.\, Buffalo\, NY\, 14216\, United States
CATEGORIES:Buffalo
END:VEVENT
BEGIN:VEVENT
DTSTART;VALUE=DATE:20260425
DTEND;VALUE=DATE:20260426
DTSTAMP:20260421T142754
CREATED:20260325T150145Z
LAST-MODIFIED:20260325T150145Z
UID:10058103-1777075200-1777161599@thestationofthecross.com
SUMMARY:Breakthrough: Youth Event (Rochester)
DESCRIPTION:Our young people live in a world that feels more connected than ever\, yet many of them feel more alone. Join young people from across the region for a day of faith\, friendship\, and real conversation from 9 a.m. to 3 p.m. Saturday\, April 25\, at Parish of the Holy Family\, 4100 Lyell Road\, Rochester. Featuring Joey Pontarelli of Restored Ministry and Samantha Kelley of FIERCE Athlete\, the day will dive into how to discover deeper connections with friends\, family and God. The cost is $20 and includes lunch. Breakthrough is hosted by St. Michael’s Family Protection Institute. Sign up at https://smfpi.org/breakthrough/.
URL:https://thestationofthecross.com/event/breakthrough-youth-event-rochester/
LOCATION:Parish of the Holy Family – Rochester\, 4100 Lyell Road\, Rochester\, NY\, 14624\, United States
CATEGORIES:Rochester
END:VEVENT
BEGIN:VEVENT
DTSTART;VALUE=DATE:20260427
DTEND;VALUE=DATE:20260428
DTSTAMP:20260421T142754
CREATED:20260325T134913Z
LAST-MODIFIED:20260325T134913Z
UID:10058097-1777248000-1777334399@thestationofthecross.com
SUMMARY:The Story of a Near-Death Experience (Hamburg)
DESCRIPTION:Paul Zucarelli\, Catholic speaker and author\, had nine cardiac arrests and was dead for two hours. Through intercessory prayer of many\, including Bishop Olmsted\, Paul survived with no brain damage and now lives to testify his witness about Heaven and Christ’s deep love for us. Bring your family and friends to hear Paul’s testimony from 7 to 8:30 p.m. Monday\, April 27\, at SS. Peter and Paul Church\, 66 East Main St.\, Hamburg. This is a free event.
URL:https://thestationofthecross.com/event/the-story-of-a-near-death-experience-hamburg/
LOCATION:SS. Peter and Paul Church – Hamburg\, NY\, 66 East Main Street\, Hamburg\, NY\, 14075\, United States
CATEGORIES:Buffalo
GEO:42.7162737;-78.8268157
X-APPLE-STRUCTURED-LOCATION;VALUE=URI;X-ADDRESS=SS. Peter and Paul Church – Hamburg NY 66 East Main Street Hamburg NY 14075 United States;X-APPLE-RADIUS=500;X-TITLE=66 East Main Street:geo:-78.8268157,42.7162737
END:VEVENT
BEGIN:VEVENT
DTSTART;VALUE=DATE:20260428
DTEND;VALUE=DATE:20260429
DTSTAMP:20260421T142754
CREATED:20260325T135026Z
LAST-MODIFIED:20260325T135026Z
UID:10058098-1777334400-1777420799@thestationofthecross.com
SUMMARY:The Story of a Near-Death Experience (West Seneca)
DESCRIPTION:Paul Zucarelli\, Catholic speaker and author\, had nine cardiac arrests and was dead for two hours. Through intercessory prayer of many\, including Bishop Olmsted\, Paul survived with no brain damage and now lives to testify his witness about Heaven and Christ’s deep love for us. Bring your family and friends to hear Paul’s testimony from 7 to 8:30 p.m. Tuesday\, April 28\, at Queen of Heaven Parish\, 4220 Seneca St.\, West Seneca. This is a free event.
URL:https://thestationofthecross.com/event/the-story-of-a-near-death-experience-west-seneca/
LOCATION:Queen of Heaven Church – West Seneca\, NY\, 4220 Seneca Street\, West Seneca\, NY\, 14224\, United States
CATEGORIES:Buffalo
GEO:42.8318227;-78.7471347
X-APPLE-STRUCTURED-LOCATION;VALUE=URI;X-ADDRESS=Queen of Heaven Church – West Seneca NY 4220 Seneca Street West Seneca NY 14224 United States;X-APPLE-RADIUS=500;X-TITLE=4220 Seneca Street:geo:-78.7471347,42.8318227
END:VEVENT
BEGIN:VEVENT
DTSTART;VALUE=DATE:20260429
DTEND;VALUE=DATE:20260430
DTSTAMP:20260421T142754
CREATED:20260306T154459Z
LAST-MODIFIED:20260306T154459Z
UID:10058079-1777420800-1777507199@thestationofthecross.com
SUMMARY:Catholics Returning Home (Meadville)
DESCRIPTION:The Epiphany of the Lord Parish in Meadville will hold a free series of informal listening sessions\, titled “Catholics Returning Home\,” from 6:30 to 8 p.m. Wednesdays\, April 8 to May 13\, at St. Agatha Church office\, 353 Pine St.\, Meadville\, Pennsylvania.\nThe series is an invitation to Catholics who have been away to renew their relationship with the Catholic Church. These listening sessions will be conducted in a support-group format\, with updates on the Catholic faith. Former returned Catholics or converts will facilitate the evenings. Everyone is welcome. For more details\, call 814-336-1112.
URL:https://thestationofthecross.com/event/catholics-returning-home-meadville-2/2026-04-29/
LOCATION:St. Agatha Catholic Church\, 353 Pine St.\, Meadville\, PA\, 16335
CATEGORIES:Erie, NE Ohio, Oil City
END:VEVENT
BEGIN:VEVENT
DTSTART;VALUE=DATE:20260430
DTEND;VALUE=DATE:20260501
DTSTAMP:20260421T142754
CREATED:20260409T190133Z
LAST-MODIFIED:20260409T190133Z
UID:10058108-1777507200-1777593599@thestationofthecross.com
SUMMARY:Branches Center Fundraiser (West Seneca)
DESCRIPTION:Branches Christian Rest and Renewal Centers will hold a fundraiser themed “One Lord\, One Faith\, One Church\,” from 6 to 9:15 p.m. Thursday\, April 30\, Kloc’s Grove\, 1245 Seneca Creek Road\, West Seneca. Guest speaker Paul Zucarelli\, a national Catholic speaker and author\, will give a talk drawing from his book\, “One Lord\, One Faith\, One Church: An Inconvenient Truth\,” which he co-authored with Jesse Romero. Zucarelli has donated a copy of the book for each person who attends the fundraiser. There will also be basket raffles and a 50/50.
URL:https://thestationofthecross.com/event/branches-center-fundraiser-west-seneca/
LOCATION:Kloc’s Grove\, 1245 Seneca Creek Road\, West Seneca\, NY\, 14224\, United States
CATEGORIES:Buffalo
END:VEVENT
END:VCALENDAR