BEGIN:VCALENDAR
VERSION:2.0
PRODID:-//The Station of the Cross - ECPv6.15.20//NONSGML v1.0//EN
CALSCALE:GREGORIAN
METHOD:PUBLISH
X-WR-CALNAME:The Station of the Cross
X-ORIGINAL-URL:https://thestationofthecross.com
X-WR-CALDESC:Events for The Station of the Cross
REFRESH-INTERVAL;VALUE=DURATION:PT1H
X-Robots-Tag:noindex
X-PUBLISHED-TTL:PT1H
BEGIN:VTIMEZONE
TZID:America/New_York
BEGIN:DAYLIGHT
TZOFFSETFROM:-0500
TZOFFSETTO:-0400
TZNAME:EDT
DTSTART:20250309T070000
END:DAYLIGHT
BEGIN:STANDARD
TZOFFSETFROM:-0400
TZOFFSETTO:-0500
TZNAME:EST
DTSTART:20251102T060000
END:STANDARD
BEGIN:DAYLIGHT
TZOFFSETFROM:-0500
TZOFFSETTO:-0400
TZNAME:EDT
DTSTART:20260308T070000
END:DAYLIGHT
BEGIN:STANDARD
TZOFFSETFROM:-0400
TZOFFSETTO:-0500
TZNAME:EST
DTSTART:20261101T060000
END:STANDARD
BEGIN:DAYLIGHT
TZOFFSETFROM:-0500
TZOFFSETTO:-0400
TZNAME:EDT
DTSTART:20270314T070000
END:DAYLIGHT
BEGIN:STANDARD
TZOFFSETFROM:-0400
TZOFFSETTO:-0500
TZNAME:EST
DTSTART:20271107T060000
END:STANDARD
END:VTIMEZONE
BEGIN:VEVENT
DTSTART;VALUE=DATE:20260801
DTEND;VALUE=DATE:20260802
DTSTAMP:20260421T171938
CREATED:20260413T151942Z
LAST-MODIFIED:20260413T151942Z
UID:10058111-1785542400-1785628799@thestationofthecross.com
SUMMARY:To Jesus Through Mary Retreat (Butler\, Pennsylvania)
DESCRIPTION:Gospa Missions will hold a retreat themed “To Jesus Through Mary” from 8 a.m. to 3:30 p.m. Saturday\, Aug. 1\, at Highfield Community Center\, 229 Highfield Road\, Butler\, Pennsylvania. Registration\, continental breakfast\, and confessions begin at 7:30 a.m.\nCome be immersed in the Healing Love of Our Savior as the Blessed Mother continues to bring Him to us. The day will include the Holy Sacrifice of the Mass celebrated by Bishop Joseph Strickland\, the Rosary\, the Divine Mercy Chaplet\, a religious store\, lunch\, and more. Speakers include Bishop Joseph Strickland\, Bishop Emeritus Diocese of Tyler\, Texas\, and founder of Pillars of Faith; Sister Faustina Maria\, Children of Mary; and Geralyn Ballo\, Steward of a Holy Face of Jesus Relic.\nDiscounted hotel rates are available for those who need lodging.\nTo learn more or register\, visit GospaMissions.org or call 724-538-3171.
URL:https://thestationofthecross.com/event/to-jesus-through-mary-retreat-butler-pennsylvania/
LOCATION:Highfield Community Center\, 229 Highfield Road\, Butler\, PA\, 16001\, United States
CATEGORIES:Erie, NE Ohio, Oil City
END:VEVENT
END:VCALENDAR